BEGIN:VCALENDAR
VERSION:2.0
PRODID:-//Abbaye Andecy - ECPv6.15.20//NONSGML v1.0//EN
CALSCALE:GREGORIAN
METHOD:PUBLISH
X-ORIGINAL-URL:https://abbaye-andecy.fr
X-WR-CALDESC:Évènements pour Abbaye Andecy
REFRESH-INTERVAL;VALUE=DURATION:PT1H
X-Robots-Tag:noindex
X-PUBLISHED-TTL:PT1H
BEGIN:VTIMEZONE
TZID:UTC
BEGIN:STANDARD
TZOFFSETFROM:+0000
TZOFFSETTO:+0000
TZNAME:UTC
DTSTART:20240101T000000
END:STANDARD
END:VTIMEZONE
BEGIN:VTIMEZONE
TZID:Europe/Helsinki
BEGIN:DAYLIGHT
TZOFFSETFROM:+0200
TZOFFSETTO:+0300
TZNAME:EEST
DTSTART:20240331T010000
END:DAYLIGHT
BEGIN:STANDARD
TZOFFSETFROM:+0300
TZOFFSETTO:+0200
TZNAME:EET
DTSTART:20241027T010000
END:STANDARD
BEGIN:DAYLIGHT
TZOFFSETFROM:+0200
TZOFFSETTO:+0300
TZNAME:EEST
DTSTART:20250330T010000
END:DAYLIGHT
BEGIN:STANDARD
TZOFFSETFROM:+0300
TZOFFSETTO:+0200
TZNAME:EET
DTSTART:20251026T010000
END:STANDARD
BEGIN:DAYLIGHT
TZOFFSETFROM:+0200
TZOFFSETTO:+0300
TZNAME:EEST
DTSTART:20260329T010000
END:DAYLIGHT
BEGIN:STANDARD
TZOFFSETFROM:+0300
TZOFFSETTO:+0200
TZNAME:EET
DTSTART:20261025T010000
END:STANDARD
END:VTIMEZONE
BEGIN:VEVENT
DTSTART;VALUE=DATE:20250922
DTEND;VALUE=DATE:20250927
DTSTAMP:20260423T163225
CREATED:20250818T110402Z
LAST-MODIFIED:20250901T085234Z
UID:724-1758499200-1758931199@abbaye-andecy.fr
SUMMARY:Stage d'iconographie à Andecy
DESCRIPTION:Du 22 au 26 septembre 2025\, l’atelier d’icônes de Meudon propose un stage de 5 jours pour s’initier et/ou se perfectionner aux techniques traditionnelles de l’iconographie byzantine\, selon la tradition russe transmise par l’école du père Egon Sendler. Ce stage aura lieu à l’abbaye d’Andecy\, en partenariat avec L’Œuvre d’Orient. \nAu programme :  \n\nréalisation de l’icône selon la technique traditionnelle de la tempera à l’œuf\, sur bois enduit\, avec pigments bruts. Thèmes proposés : Christ Pantocrator\, Sainte Face\, Vierge de tendresse\, Saints fondateurs des Eglises d’Orient.\ninitiation à la beauté et au sens profond des icônes byzantines d’après les modèles anciens\, principalement grecs et russes.\nenseignement dans l’esprit œcuménique de l’école du père Egon Sendler.\nenseignements et conférences complémentaires afin de pénétrer l’univers spirituel de l’icône et sa construction depuis les premiers siècles du christianisme.\n\nL’atelier sera animé par deux iconographes expérimentées : Anne Nicolas\, formée par le père Egon Sendler depuis son plus jeune âge\, et Valérie Servant\, qui a reçu l’enseignement de plusieurs maîtres avant de rejoindre l’atelier de Meudon. Pour en savoir plus sur l’atelier d’icônes de Meudon cliquez ici. \nInscription : \n\nTout public.\nFrais de stage : 375€ (295€ pour les moins de 25 ans et faibles revenus).\nFrais d’hôtellerie : 50€ / jour en pension complète.\nMatériel fourni sauf pinceaux\, planche enduite et feuille d’or. Contacter l’atelier lors de l’inscription pour se faire conseiller.\n\nLieu : abbaye d’Andecy\, centre culturel et spirituel des chrétiens d’Orient\, Baye (51). \nPour s’inscrire\, merci de remplir ce bulletin d’inscription et de le retourner par mail à iconesateliermeudon@gmail.com. Questions et informations à : 06 36 77 64 20. \nEnvoyez également un mail de confirmation à andecy@oeuvre-orient.fr
URL:https://abbaye-andecy.fr/event/stage-diconographie-a-andecy/
LOCATION:Abbaye d’Andecy\, Baye
ATTACH;FMTTYPE=image/jpeg:https://abbaye-andecy.fr/wp-content/uploads/2025/08/251115-NDChene-Nov-Vierge14v2.jpg
ORGANIZER;CN="Atelier d'ic%C3%B4nes de Meudon":MAILTO:iconesateliermeudon@gmail.com
END:VEVENT
BEGIN:VEVENT
DTSTART;VALUE=DATE:20250705
DTEND;VALUE=DATE:20250707
DTSTAMP:20260423T163225
CREATED:20250429T085639Z
LAST-MODIFIED:20250606T080401Z
UID:291-1751673600-1751846399@abbaye-andecy.fr
SUMMARY:2ᵉ édition du Festival des Chrétiens d'Orient
DESCRIPTION:
URL:https://abbaye-andecy.fr/event/2%e1%b5%89-edition-du-festival-des-chretiens-dorient/
LOCATION:Abbaye Andecy\, 2 Rue du Hameau d’Andecy\, 51270 Baye\, France
ATTACH;FMTTYPE=image/png:https://abbaye-andecy.fr/wp-content/uploads/2025/04/1.png
ORGANIZER;CN="L'%C5%92uvre d'Orient":MAILTO:festival@oeuvre-orient.fr
END:VEVENT
END:VCALENDAR